BEGIN:VCALENDAR
VERSION:2.0
PRODID:-//eventon.com NONSGML v1.0//EN
CALSCALE:GREGORIAN
METHOD:PUBLISH
BEGIN:VEVENT
UID:69e5d189aebba
DTSTAMP:20260420T071105Z
DTSTART:20250701T100000Z
DTEND:20250701T150000Z
LOCATION:
SUMMARY:Schützenplatz aufräumen
DESCRIPTION:Schützenplatz Langeneicke\nhttps://schuetzenverein-langeneicke
 .de/events/schuetzenplatz-aufraeumen-2/
URL:https://schuetzenverein-langeneicke.de/events/schuetzenplatz-aufraeumen-2/
END:VEVENT
END:VCALENDAR